BEGIN:VCALENDAR
VERSION:2.0
PRODID:-//Concrete Society of Southern Africa - ECPv6.15.20//NONSGML v1.0//EN
CALSCALE:GREGORIAN
METHOD:PUBLISH
X-WR-CALNAME:Concrete Society of Southern Africa
X-ORIGINAL-URL:https://concretesocietysa.org.za
X-WR-CALDESC:Events for Concrete Society of Southern Africa
REFRESH-INTERVAL;VALUE=DURATION:PT1H
X-Robots-Tag:noindex
X-PUBLISHED-TTL:PT1H
BEGIN:VTIMEZONE
TZID:Africa/Johannesburg
BEGIN:STANDARD
TZOFFSETFROM:+0200
TZOFFSETTO:+0200
TZNAME:SAST
DTSTART:20250101T000000
END:STANDARD
END:VTIMEZONE
BEGIN:VEVENT
DTSTART;TZID=Africa/Johannesburg:20260604T150000
DTEND;TZID=Africa/Johannesburg:20260604T160000
DTSTAMP:20260425T224940
CREATED:20260317T113655Z
LAST-MODIFIED:20260319T100231Z
UID:18631-1780585200-1780588800@concretesocietysa.org.za
SUMMARY:CONCRETEClass 2:2
DESCRIPTION:
URL:https://concretesocietysa.org.za/event/concreteclass-2-2/
LOCATION:Webinar\, Microsoft Teams
CATEGORIES:National
END:VEVENT
BEGIN:VEVENT
DTSTART;VALUE=DATE:20260609
DTEND;VALUE=DATE:20260610
DTSTAMP:20260425T224940
CREATED:20260317T135559Z
LAST-MODIFIED:20260327T115626Z
UID:18676-1780963200-1781049599@concretesocietysa.org.za
SUMMARY:SANS 51992-1-1 Roadshow - CT
DESCRIPTION:THE NEW CONCRETE CODE: SANS 51992-1-1 – unpacked\nThe Code Has Changed — Have You?\nThe new SANS 51992-1-1 is not just an update — it is a game-changing shift in how concrete structures will be designed\, specified\, and assessed in South Africa.\nThis is your opportunity to get ahead of the curve and gain clear\, practical insight into what the code really means for your day-to-day work. From critical changes and hidden pitfalls to compliance risks and design implications\, this seminar aims to develop an understanding of the key changes and the conceptual approaches underpinning the new code. If you are serious about staying relevant\, protecting your professional liability\, and delivering work that meets the latest standards\, this is one event you simply cannot afford to miss. \nSeats are limited and demand is expected to be high. Secure your place now to ensure you are fully up to speed with the new code and earn valuable CPD points while doing so. Don’t wait until these changes catch you off guard — be informed\, be prepared\, and be ahead. \nECSA CPD points will be applied for \nCHARGE PER DELEGATE: \n\nNon-member R2\,400.00 excl. VAT\nDiamond Member 25% discount\nRuby Member 20% discount\nEmerald Member 15% discount\nTanzanite Member 10% discount\nEmerging Enterprise Member 5% discount\nIndividual Member 5% discount\n\nSponsorship opportunities available \nPlease contact Natasja for more information on this not to be missed and informative seminar roadshow.\nEmail natasja.pols@concretesocietysa.org.za or Cell 082 514 2560
URL:https://concretesocietysa.org.za/event/sans-51992-1-1-roadshow-ct/
CATEGORIES:National,WC Branch
ATTACH;FMTTYPE=image/jpeg:https://concretesocietysa.org.za/wp-content/uploads/2026/03/SANS-51992-Unpacked-Roadshow-save-the-date-rev_notice.jpg
END:VEVENT
BEGIN:VEVENT
DTSTART;VALUE=DATE:20260611
DTEND;VALUE=DATE:20260612
DTSTAMP:20260425T224940
CREATED:20260317T135644Z
LAST-MODIFIED:20260327T115202Z
UID:18678-1781136000-1781222399@concretesocietysa.org.za
SUMMARY:SANS 51992-1-1 Roadshow Seminar - DBN
DESCRIPTION:THE NEW CONCRETE CODE: SANS 51992-1-1 – unpacked\nThe Code Has Changed — Have You?\nThe new SANS 51992-1-1 is not just an update — it is a game-changing shift in how concrete structures will be designed\, specified\, and assessed in South Africa.\nThis is your opportunity to get ahead of the curve and gain clear\, practical insight into what the code really means for your day-to-day work. From critical changes and hidden pitfalls to compliance risks and design implications\, this seminar aims to develop an understanding of the key changes and the conceptual approaches underpinning the new code. If you are serious about staying relevant\, protecting your professional liability\, and delivering work that meets the latest standards\, this is one event you simply cannot afford to miss. \nSeats are limited and demand is expected to be high. Secure your place now to ensure you are fully up to speed with the new code and earn valuable CPD points while doing so. Don’t wait until these changes catch you off guard — be informed\, be prepared\, and be ahead. \nECSA CPD points will be applied for \nCHARGE PER DELEGATE: \n\nNon-member R2\,400.00 excl. VAT\nDiamond Member 25% discount\nRuby Member 20% discount\nEmerald Member 15% discount\nTanzanite Member 10% discount\nEmerging Enterprise Member 5% discount\nIndividual Member 5% discount\n\nSponsorship opportunities available \nPlease contact Natasja for more information on this not to be missed and informative seminar roadshow.\nEmail natasja.pols@concretesocietysa.org.za or Cell 082 514 2560
URL:https://concretesocietysa.org.za/event/sans-51992-1-1-roadshow-dbn/
CATEGORIES:KZN Branch,National
ATTACH;FMTTYPE=image/jpeg:https://concretesocietysa.org.za/wp-content/uploads/2026/03/SANS-51992-Unpacked-Roadshow-save-the-date-rev_notice.jpg
END:VEVENT
BEGIN:VEVENT
DTSTART;TZID=Africa/Johannesburg:20260618T150000
DTEND;TZID=Africa/Johannesburg:20260618T160000
DTSTAMP:20260425T224940
CREATED:20260317T112444Z
LAST-MODIFIED:20260317T112444Z
UID:18612-1781794800-1781798400@concretesocietysa.org.za
SUMMARY:CONCRETEFiX 6.4
DESCRIPTION:
URL:https://concretesocietysa.org.za/event/concretefix-6-4/
LOCATION:Webinar\, Microsoft Teams
CATEGORIES:National
END:VEVENT
BEGIN:VEVENT
DTSTART;VALUE=DATE:20260623
DTEND;VALUE=DATE:20260624
DTSTAMP:20260425T224940
CREATED:20260317T135804Z
LAST-MODIFIED:20260327T114707Z
UID:18680-1782172800-1782259199@concretesocietysa.org.za
SUMMARY:SANS 51992-1-1 Roadshow Seminar - IN
DESCRIPTION:THE NEW CONCRETE CODE: SANS 51992-1-1 – unpacked\nThe Code Has Changed — Have You?\nThe new SANS 51992-1-1 is not just an update — it is a game-changing shift in how concrete structures will be designed\, specified\, and assessed in South Africa.\nThis is your opportunity to get ahead of the curve and gain clear\, practical insight into what the code really means for your day-to-day work. From critical changes and hidden pitfalls to compliance risks and design implications\, this seminar aims to develop an understanding of the key changes and the conceptual approaches underpinning the new code. If you are serious about staying relevant\, protecting your professional liability\, and delivering work that meets the latest standards\, this is one event you simply cannot afford to miss. \nSeats are limited and demand is expected to be high. Secure your place now to ensure you are fully up to speed with the new code and earn valuable CPD points while doing so. Don’t wait until these changes catch you off guard — be informed\, be prepared\, and be ahead. \nECSA CPD points will be applied for \nCHARGE PER DELEGATE: \n\nNon-member R2\,400.00 excl. VAT\nDiamond Member 25% discount\nRuby Member 20% discount\nEmerald Member 15% discount\nTanzanite Member 10% discount\nEmerging Enterprise Member 5% discount\nIndividual Member 5% discount\n\nSponsorship opportunities available \nPlease contact Natasja for more information on this not to be missed and informative seminar roadshow.\nEmail natasja.pols@concretesocietysa.org.za or Cell 082 514 2560
URL:https://concretesocietysa.org.za/event/sans-51992-1-1-roadshow-in/
CATEGORIES:Inland Branch,National
ATTACH;FMTTYPE=image/jpeg:https://concretesocietysa.org.za/wp-content/uploads/2026/03/SANS-51992-Unpacked-Roadshow-save-the-date-rev_notice.jpg
END:VEVENT
BEGIN:VEVENT
DTSTART;TZID=Africa/Johannesburg:20260709T150000
DTEND;TZID=Africa/Johannesburg:20260709T160000
DTSTAMP:20260425T224940
CREATED:20260317T113801Z
LAST-MODIFIED:20260319T100239Z
UID:18633-1783609200-1783612800@concretesocietysa.org.za
SUMMARY:CONCRETEClass 2.3
DESCRIPTION:
URL:https://concretesocietysa.org.za/event/concreteclass-2-3/
LOCATION:Webinar\, Microsoft Teams
CATEGORIES:National
END:VEVENT
BEGIN:VEVENT
DTSTART;TZID=Africa/Johannesburg:20260723T150000
DTEND;TZID=Africa/Johannesburg:20260723T160000
DTSTAMP:20260425T224940
CREATED:20260317T112545Z
LAST-MODIFIED:20260317T112545Z
UID:18614-1784818800-1784822400@concretesocietysa.org.za
SUMMARY:CONCRETEFiX 6.5
DESCRIPTION:
URL:https://concretesocietysa.org.za/event/concretefix-6-5/
LOCATION:Webinar\, Microsoft Teams
CATEGORIES:National
END:VEVENT
BEGIN:VEVENT
DTSTART;TZID=Africa/Johannesburg:20260806T150000
DTEND;TZID=Africa/Johannesburg:20260806T160000
DTSTAMP:20260425T224940
CREATED:20260317T133605Z
LAST-MODIFIED:20260408T111025Z
UID:18638-1786028400-1786032000@concretesocietysa.org.za
SUMMARY:CONCRETEClass 2.4
DESCRIPTION:
URL:https://concretesocietysa.org.za/event/concreteclass-2-4/
LOCATION:Webinar\, Microsoft Teams
CATEGORIES:National
END:VEVENT
BEGIN:VEVENT
DTSTART;TZID=Africa/Johannesburg:20260820T150000
DTEND;TZID=Africa/Johannesburg:20260820T160000
DTSTAMP:20260425T224940
CREATED:20260317T112632Z
LAST-MODIFIED:20260317T112632Z
UID:18616-1787238000-1787241600@concretesocietysa.org.za
SUMMARY:CONCRETEFiX 6.6
DESCRIPTION:
URL:https://concretesocietysa.org.za/event/concretefix-6-6/
LOCATION:Webinar\, Microsoft Teams
CATEGORIES:National
END:VEVENT
BEGIN:VEVENT
DTSTART;VALUE=DATE:20260831
DTEND;VALUE=DATE:20260901
DTSTAMP:20260425T224940
CREATED:20260317T135307Z
LAST-MODIFIED:20260317T135434Z
UID:18671-1788134400-1788220799@concretesocietysa.org.za
SUMMARY:2027 Fulton Awards Nominations Close
DESCRIPTION:
URL:https://concretesocietysa.org.za/event/2027-fulton-awards-nominations-close/
CATEGORIES:National
END:VEVENT
BEGIN:VEVENT
DTSTART;TZID=Africa/Johannesburg:20260910T150000
DTEND;TZID=Africa/Johannesburg:20260910T160000
DTSTAMP:20260425T224940
CREATED:20260317T133714Z
LAST-MODIFIED:20260319T100254Z
UID:18640-1789052400-1789056000@concretesocietysa.org.za
SUMMARY:CONCRETEClass 2.5
DESCRIPTION:
URL:https://concretesocietysa.org.za/event/concreteclass-2-5/
LOCATION:Webinar\, Microsoft Teams
CATEGORIES:National
END:VEVENT
BEGIN:VEVENT
DTSTART;TZID=Africa/Johannesburg:20260917T150000
DTEND;TZID=Africa/Johannesburg:20260917T160000
DTSTAMP:20260425T224940
CREATED:20260317T112742Z
LAST-MODIFIED:20260317T112742Z
UID:18618-1789657200-1789660800@concretesocietysa.org.za
SUMMARY:CONCRETEFiX 6.7
DESCRIPTION:
URL:https://concretesocietysa.org.za/event/concretefix-6-7/
LOCATION:Webinar\, Microsoft Teams
CATEGORIES:National
END:VEVENT
BEGIN:VEVENT
DTSTART;TZID=Africa/Johannesburg:20261008T150000
DTEND;TZID=Africa/Johannesburg:20261008T160000
DTSTAMP:20260425T224940
CREATED:20260317T133810Z
LAST-MODIFIED:20260319T100300Z
UID:18643-1791471600-1791475200@concretesocietysa.org.za
SUMMARY:CONCRETEClass 2.6
DESCRIPTION:
URL:https://concretesocietysa.org.za/event/concreteclass-2-6/
LOCATION:Webinar\, Microsoft Teams
CATEGORIES:National
END:VEVENT
BEGIN:VEVENT
DTSTART;VALUE=DATE:20261013
DTEND;VALUE=DATE:20261014
DTSTAMP:20260425T224940
CREATED:20260317T140054Z
LAST-MODIFIED:20260317T140732Z
UID:18683-1791849600-1791935999@concretesocietysa.org.za
SUMMARY:Ready-mixed Concrete Roadshow
DESCRIPTION:
URL:https://concretesocietysa.org.za/event/rmc-roadshow/
CATEGORIES:National
END:VEVENT
BEGIN:VEVENT
DTSTART;VALUE=DATE:20261015
DTEND;VALUE=DATE:20261016
DTSTAMP:20260425T224940
CREATED:20260317T140137Z
LAST-MODIFIED:20260317T140653Z
UID:18685-1792022400-1792108799@concretesocietysa.org.za
SUMMARY:Ready-mixed Concrete Roadshow
DESCRIPTION:
URL:https://concretesocietysa.org.za/event/rmc-roadshow-2/
CATEGORIES:National
END:VEVENT
BEGIN:VEVENT
DTSTART;VALUE=DATE:20261020
DTEND;VALUE=DATE:20261021
DTSTAMP:20260425T224940
CREATED:20260317T140309Z
LAST-MODIFIED:20260317T140525Z
UID:18687-1792454400-1792540799@concretesocietysa.org.za
SUMMARY:Ready-mixed Concrete Roadshow
DESCRIPTION:
URL:https://concretesocietysa.org.za/event/rmc-roadshow-3/
CATEGORIES:National
END:VEVENT
BEGIN:VEVENT
DTSTART;TZID=Africa/Johannesburg:20261022T150000
DTEND;TZID=Africa/Johannesburg:20261023T160000
DTSTAMP:20260425T224940
CREATED:20260317T113008Z
LAST-MODIFIED:20260317T113008Z
UID:18621-1792681200-1792771200@concretesocietysa.org.za
SUMMARY:CONCRETEFiX 6.8
DESCRIPTION:
URL:https://concretesocietysa.org.za/event/concretefix-6-8/
LOCATION:Webinar\, Microsoft Teams
CATEGORIES:National
END:VEVENT
BEGIN:VEVENT
DTSTART;TZID=Africa/Johannesburg:20261105T150000
DTEND;TZID=Africa/Johannesburg:20261105T160000
DTSTAMP:20260425T224940
CREATED:20260317T133917Z
LAST-MODIFIED:20260319T100310Z
UID:18645-1793890800-1793894400@concretesocietysa.org.za
SUMMARY:CONCRETEClass 2.7
DESCRIPTION:
URL:https://concretesocietysa.org.za/event/concreteclass-2-7/
LOCATION:Webinar\, Microsoft Teams
CATEGORIES:National
END:VEVENT
BEGIN:VEVENT
DTSTART;TZID=Africa/Johannesburg:20261119T150000
DTEND;TZID=Africa/Johannesburg:20261119T160000
DTSTAMP:20260425T224940
CREATED:20260317T113305Z
LAST-MODIFIED:20260317T113305Z
UID:18627-1795100400-1795104000@concretesocietysa.org.za
SUMMARY:CONCRETEFiX 6.9
DESCRIPTION:
URL:https://concretesocietysa.org.za/event/concretefix-6-9-2/
LOCATION:Webinar\, Microsoft Teams
CATEGORIES:National
END:VEVENT
BEGIN:VEVENT
DTSTART;TZID=Africa/Johannesburg:20270204T150000
DTEND;TZID=Africa/Johannesburg:20270204T160000
DTSTAMP:20260425T224940
CREATED:20260317T134014Z
LAST-MODIFIED:20260319T100320Z
UID:18647-1801753200-1801756800@concretesocietysa.org.za
SUMMARY:CONCRETEClass 2.8
DESCRIPTION:
URL:https://concretesocietysa.org.za/event/concreteclass-2-8/
LOCATION:Webinar\, Microsoft Teams
CATEGORIES:National
END:VEVENT
BEGIN:VEVENT
DTSTART;TZID=Africa/Johannesburg:20270218T150000
DTEND;TZID=Africa/Johannesburg:20270218T160000
DTSTAMP:20260425T224940
CREATED:20260317T113213Z
LAST-MODIFIED:20260317T113213Z
UID:18625-1802962800-1802966400@concretesocietysa.org.za
SUMMARY:CONCRETEFiX 6.10
DESCRIPTION:
URL:https://concretesocietysa.org.za/event/concretefix-6-10/
LOCATION:Webinar\, Microsoft Teams
CATEGORIES:National
END:VEVENT
BEGIN:VEVENT
DTSTART;VALUE=DATE:20270222
DTEND;VALUE=DATE:20270224
DTSTAMP:20260425T224940
CREATED:20260317T140936Z
LAST-MODIFIED:20260317T141051Z
UID:18693-1803254400-1803427199@concretesocietysa.org.za
SUMMARY:ISSEC 2027 - Innovative Synergy in Structural Engineering Conference
DESCRIPTION:
URL:https://concretesocietysa.org.za/event/issec-2027-innovative-synergy-in-structural-engineering-conference/
CATEGORIES:National
END:VEVENT
END:VCALENDAR