BEGIN:VCALENDAR
VERSION:2.0
PRODID:-//Concrete Society of Southern Africa - ECPv6.15.20//NONSGML v1.0//EN
CALSCALE:GREGORIAN
METHOD:PUBLISH
X-WR-CALNAME:Concrete Society of Southern Africa
X-ORIGINAL-URL:https://concretesocietysa.org.za
X-WR-CALDESC:Events for Concrete Society of Southern Africa
REFRESH-INTERVAL;VALUE=DURATION:PT1H
X-Robots-Tag:noindex
X-PUBLISHED-TTL:PT1H
BEGIN:VTIMEZONE
TZID:Africa/Johannesburg
BEGIN:STANDARD
TZOFFSETFROM:+0200
TZOFFSETTO:+0200
TZNAME:SAST
DTSTART:20250101T000000
END:STANDARD
END:VTIMEZONE
BEGIN:VEVENT
DTSTART;TZID=Africa/Johannesburg:20260910T150000
DTEND;TZID=Africa/Johannesburg:20260910T160000
DTSTAMP:20260425T153959
CREATED:20260317T133714Z
LAST-MODIFIED:20260319T100254Z
UID:18640-1789052400-1789056000@concretesocietysa.org.za
SUMMARY:CONCRETEClass 2.5
DESCRIPTION:
URL:https://concretesocietysa.org.za/event/concreteclass-2-5/
LOCATION:Webinar\, Microsoft Teams
CATEGORIES:National
END:VEVENT
BEGIN:VEVENT
DTSTART;TZID=Africa/Johannesburg:20260917T150000
DTEND;TZID=Africa/Johannesburg:20260917T160000
DTSTAMP:20260425T153959
CREATED:20260317T112742Z
LAST-MODIFIED:20260317T112742Z
UID:18618-1789657200-1789660800@concretesocietysa.org.za
SUMMARY:CONCRETEFiX 6.7
DESCRIPTION:
URL:https://concretesocietysa.org.za/event/concretefix-6-7/
LOCATION:Webinar\, Microsoft Teams
CATEGORIES:National
END:VEVENT
END:VCALENDAR