BEGIN:VCALENDAR
VERSION:2.0
PRODID:-//Concrete Society of Southern Africa - ECPv6.15.20//NONSGML v1.0//EN
CALSCALE:GREGORIAN
METHOD:PUBLISH
X-ORIGINAL-URL:https://concretesocietysa.org.za
X-WR-CALDESC:Events for Concrete Society of Southern Africa
REFRESH-INTERVAL;VALUE=DURATION:PT1H
X-Robots-Tag:noindex
X-PUBLISHED-TTL:PT1H
BEGIN:VTIMEZONE
TZID:Africa/Johannesburg
BEGIN:STANDARD
TZOFFSETFROM:+0200
TZOFFSETTO:+0200
TZNAME:SAST
DTSTART:20240101T000000
END:STANDARD
END:VTIMEZONE
BEGIN:VEVENT
DTSTART;TZID=Africa/Johannesburg:20251009T150000
DTEND;TZID=Africa/Johannesburg:20251009T160000
DTSTAMP:20260425T173755
CREATED:20250711T082711Z
LAST-MODIFIED:20250923T080703Z
UID:17762-1760022000-1760025600@concretesocietysa.org.za
SUMMARY:CONCRETEClass 1.8 - The Fundamentals of Concrete Rheology for the Concrete Practitioner
DESCRIPTION:A very simple introduction to Concrete Rheology explaining concrete as a Bingham material. Common tests done on fresh concrete such as the slump test are often described as ‘single-point’ tests. The lecture will discuss the potential advantages of ‘two-point’ testing using a concrete rheometer over the ‘single-point’ tests commonly done on fresh concrete. \nRequirements for attending this class:\n– Basic knowledge of the constituents of concrete\n– Basic mathematics\, no more than Matric Level \nPresenter: John Roxburgh\nJohn Roxburgh has a BSc Building Science degree and is a member of the institute of concrete technology in London. In 2009 he joined the Cement and Concrete Institute as a lecturer in the School of Concrete Technology. He remained in this role until the demise of Cement and Concrete SA in 2024. While employed at Cement and Concrete SA he ran the Advanced Concrete Technology diploma programme. \nDate: Thursday\, 09 October 2025\nTime: 15:00 – 16:00 \nECSA CPD accreditation applied for\nOnly CSSA Members qualify to receive ECSA CPD points. \nRSVP:\nNatasja Pols on or before Wednesday\, 08 October 2025 natasja.pols@concretesocietysa.org.za \n  \nRSVP HERE
URL:https://concretesocietysa.org.za/event/concreteclass-1-8-the-fundamentals-of-concrete-rheology-for-the-concrete-practitioner/
LOCATION:Webinar\, Microsoft Teams
CATEGORIES:National
ATTACH;FMTTYPE=image/jpeg:https://concretesocietysa.org.za/wp-content/uploads/2025/07/CONCRETEclass1.8_invite.jpg
END:VEVENT
BEGIN:VEVENT
DTSTART;TZID=Africa/Johannesburg:20251023T150000
DTEND;TZID=Africa/Johannesburg:20251023T160000
DTSTAMP:20260425T173755
CREATED:20250711T081636Z
LAST-MODIFIED:20251013T090323Z
UID:17747-1761231600-1761235200@concretesocietysa.org.za
SUMMARY:CONCRETEFiX 5.11 - Pre-cast Post-tensioned Reservoirs — Smarter\, Faster\, Stronger
DESCRIPTION:By Willie Steenkamp & Kobus Kotze – Directors\, Infinite Consulting Engineers \nModern water infrastructure demands speed\, precision\, and durability — qualities achieved through pre-cast post-tensioned reservoir systems.\nUnlike traditional in-situ builds\, pre-cast elements are manufactured under strict factory quality control\, ensuring consistent strength and watertightness. The modular assembly process shortens construction time\, reduces on-site labour\, and limits weather delays — translating\ndirectly into earlier commissioning and lower project risk. \nFor contractors\, the system minimizes formwork and shuttering on site\, improving safety and programme reliability.\nFor engineers\, it offers predictable performance\, cleaner detailing\, and long-term serviceability.\nTogether\, these benefits make pre-cast post-tensioned reservoirs a next-generation solution for efficient and durable water storage. \nDATE: Thursday\, 23 October 2025\nvia Teams @ 15:00 SAST (UTC+2 hours)\nAttendance Free \nECSA CPD accreditation applied for\nOnly CSSA Members qualify to receive ECSA CPD points. To become a Member visit our website: www.concretesocietysa.org.za or contact Natasja. \nRSVP:\nNatasja Pols on or before Wednesday\, 22 October 2025\nnatasja.pols@concretesocietysa.org.za \nRSVP HERE\n\n  \n 
URL:https://concretesocietysa.org.za/event/concretefix-5-11-pre-cast-post-tensioned-reservoirs-smarter-faster-stronger/
LOCATION:Webinar\, Microsoft Teams
CATEGORIES:National
ATTACH;FMTTYPE=image/png:https://concretesocietysa.org.za/wp-content/uploads/2025/07/concretefix-S5-E11_invite.png
END:VEVENT
END:VCALENDAR